BEGIN:VCALENDAR
VERSION:2.0
PRODID:-//Plone.org//NONSGML plone.app.event//EN
X-WR-TIMEZONE:America/New_York
BEGIN:VEVENT
SUMMARY:28th Annual Graduate School Fair
DTSTART;TZID=America/New_York:20211103T110000
DTEND;TZID=America/New_York:20211103T130000
DTSTAMP:20260421T132147Z
UID:d7ee4d90f0764ec4918865d2aaf1bc9f@172.16.140.7:8080
CATEGORIES:Student Affairs,Counseling Center,ds
CONTACT:Ericka C Woods\, 718-262-2366\, ewoods1@york.cuny.edu
CREATED:20171026T175551Z
DESCRIPTION:The Graduate School Fair is an annual event held for juniors a
 nd seniors who are interested in careers that require a graduate degree an
 d will be looking to attend graduate school.
LAST-MODIFIED:20230523T182408Z
LOCATION:Zoom
URL:https://www.york.cuny.edu/counseling-center/workshops--events-/graduat
 e-school-fair
END:VEVENT
BEGIN:VTIMEZONE
TZID:America/New_York
X-LIC-LOCATION:America/New_York
BEGIN:DAYLIGHT
DTSTART:20210314T030000
TZNAME:EDT
TZOFFSETFROM:-0500
TZOFFSETTO:-0400
END:DAYLIGHT
END:VTIMEZONE
END:VCALENDAR
