BEGIN:VCALENDAR
VERSION:2.0
PRODID:-//Plone.org//NONSGML plone.app.event//EN
X-WR-TIMEZONE:America/New_York
BEGIN:VEVENT
SUMMARY:CANCELLED: Anxiety Screening Day
DTSTART;TZID=America/New_York:20200325T160000
DTEND;TZID=America/New_York:20200325T180000
DTSTAMP:20260421T103320Z
UID:069feeb38a3746b3bd13348593122463@172.16.140.7:8080
CONTACT:Scott W. Smith\, 718-262-2080\, ssmith16@york.cuny.edu
CREATED:20200129T151519Z
DESCRIPTION:Are you a worry wort? Do you oftentimes feel tense and restles
 s or find it hard to concentrate?
LAST-MODIFIED:20230523T182410Z
LOCATION:Atrium
URL:https://www.york.cuny.edu/counseling-center/workshops--events-/anxiety
 -screening-day
END:VEVENT
BEGIN:VTIMEZONE
TZID:America/New_York
X-LIC-LOCATION:America/New_York
BEGIN:DAYLIGHT
DTSTART:20200308T030000
TZNAME:EDT
TZOFFSETFROM:-0500
TZOFFSETTO:-0400
END:DAYLIGHT
END:VTIMEZONE
END:VCALENDAR
