BEGIN:VCALENDAR
VERSION:2.0
PRODID:-//Plone.org//NONSGML plone.app.event//EN
X-WR-TIMEZONE:America/New_York
BEGIN:VEVENT
SUMMARY:2025 Commencement Ceremony
DTSTART;TZID=America/New_York:20250528T103000
DTEND;TZID=America/New_York:20250528T140000
DTSTAMP:20260420T040422Z
UID:887386a88cf344a6b83d3b6ae414201b@172.16.140.7:8080
CATEGORIES:Commencement,2025
CREATED:20250203T212053Z
DESCRIPTION:We’re thrilled and proud to celebrate this special milestone
  with you\, your family\, and your friends. 
LAST-MODIFIED:20251111T173852Z
LOCATION:UBS Arena\, 2400 Hempstead Turnpike\, Elmont\, NY 11003
URL:https://www.york.cuny.edu/commencement-2026/2025-commencement
END:VEVENT
BEGIN:VTIMEZONE
TZID:America/New_York
X-LIC-LOCATION:America/New_York
BEGIN:DAYLIGHT
DTSTART:20250309T030000
TZNAME:EDT
TZOFFSETFROM:-0500
TZOFFSETTO:-0400
END:DAYLIGHT
END:VTIMEZONE
END:VCALENDAR
