BEGIN:VCALENDAR
VERSION:2.0
PRODID:-//Plone.org//NONSGML plone.app.event//EN
X-WR-TIMEZONE:America/New_York
BEGIN:VEVENT
SUMMARY:CLC Writing Workshop: How to Quote\, Paraphrase\, and Summarize
DTSTART;TZID=America/New_York:20180327T120000
DTEND;TZID=America/New_York:20180327T135000
DTSTAMP:20260425T141935Z
UID:e559d6d98a394f9fb9d43e3b3654eb93@172.16.140.7:8080
CATEGORIES:CLC,Collaborative Learning Center,ds,student
CREATED:20180206T204236Z
DESCRIPTION:The Collaborative Learning Center is running a series Writing 
 Workshops facilitated by CLC Writing Consultants.
LAST-MODIFIED:20200313T130237Z
LOCATION:1C06
URL:https://www.york.cuny.edu/collaborative-learning-center/clc-writing-wo
 rkshop-selecting-evidence
END:VEVENT
BEGIN:VTIMEZONE
TZID:America/New_York
X-LIC-LOCATION:America/New_York
BEGIN:DAYLIGHT
DTSTART:20180311T030000
TZNAME:EDT
TZOFFSETFROM:-0500
TZOFFSETTO:-0400
END:DAYLIGHT
END:VTIMEZONE
END:VCALENDAR
