BEGIN:VCALENDAR
VERSION:2.0
PRODID:-//Plone.org//NONSGML plone.app.event//EN
X-WR-TIMEZONE:America/New_York
BEGIN:VEVENT
SUMMARY:CLC Writing Workshop: Reading and Analyzing Literature
DTSTART;TZID=America/New_York:20180308T130000
DTEND;TZID=America/New_York:20180308T135000
DTSTAMP:20260420T014204Z
UID:101b60323bdf48818f66e18341b90ccb@172.16.140.7:8080
CATEGORIES:CLC,Collaborative Learning Center,ds,student
CREATED:20180206T202230Z
DESCRIPTION:The Collaborative Learning Center is running a series Writing 
 Workshops facilitated by CLC Writing Consultants.
LAST-MODIFIED:20180207T153121Z
LOCATION:1C06
URL:https://www.york.cuny.edu/collaborative-learning-center/clc-writing-wo
 rkshop-reading-and-analyzing-literature
END:VEVENT
BEGIN:VTIMEZONE
TZID:America/New_York
X-LIC-LOCATION:America/New_York
BEGIN:STANDARD
DTSTART:20171105T010000
TZNAME:EST
TZOFFSETFROM:-0400
TZOFFSETTO:-0500
END:STANDARD
END:VTIMEZONE
END:VCALENDAR
