BEGIN:VCALENDAR
VERSION:2.0
PRODID:-//Plone.org//NONSGML plone.app.event//EN
X-WR-TIMEZONE:America/New_York
BEGIN:VEVENT
SUMMARY:CLC Weekly Chemistry Workshops
DTSTART;TZID=America/New_York:20201026T120000
DTEND;TZID=America/New_York:20201026T140000
DTSTAMP:20260419T151014Z
UID:1d17d39acc614adf82d728319dff8ea7@172.16.140.7:8080
RRULE:FREQ=WEEKLY;UNTIL=20201222T000000;BYDAY=MO,FR
EXDATE;TZID=America/New_York:20201127T000000
CATEGORIES:CLC,CLC News
CREATED:20201021T220702Z
DESCRIPTION:Starting on Monday\, October 26th\, CLC Chemistry tutor Simon 
 Lee will be hosting weekly Chemistry workshops for CHEM 111\, CHEM 230 and
  CHEM 231.
LAST-MODIFIED:20201022T140435Z
LOCATION:https://zoom.us/my/lee.simon
URL:https://www.york.cuny.edu/collaborative-learning-center/clc-weekly-che
 mistry-workshops
END:VEVENT
BEGIN:VTIMEZONE
TZID:America/New_York
X-LIC-LOCATION:America/New_York
BEGIN:DAYLIGHT
DTSTART:20200308T030000
TZNAME:EDT
TZOFFSETFROM:-0500
TZOFFSETTO:-0400
END:DAYLIGHT
END:VTIMEZONE
END:VCALENDAR
