BEGIN:VCALENDAR
VERSION:2.0
PRODID:-//Plone.org//NONSGML plone.app.event//EN
X-WR-TIMEZONE:America/New_York
BEGIN:VEVENT
SUMMARY:CLC Thesis Statement Workshop [Fall 2020]
DTSTART;TZID=America/New_York:20201003T120000
DTEND;TZID=America/New_York:20201003T135000
DTSTAMP:20260423T222502Z
UID:09c9d69cfc734b778c6eb7644999d51d@172.16.140.7:8080
CATEGORIES:CLC,CLC News
CONTACT:https://zoom.us/j/92190471135?pwd=UG9NM2t3SFUveEhUd1VOVlpuYnZFQT09
CREATED:20200928T223600Z
DESCRIPTION:Free online workshop for students on October 3rd!
LAST-MODIFIED:20200929T183512Z
LOCATION:Zoom
URL:https://www.york.cuny.edu/collaborative-learning-center/clc-thesis-sta
 tement-workshop-fall-2020
END:VEVENT
BEGIN:VTIMEZONE
TZID:America/New_York
X-LIC-LOCATION:America/New_York
BEGIN:DAYLIGHT
DTSTART:20200308T030000
TZNAME:EDT
TZOFFSETFROM:-0500
TZOFFSETTO:-0400
END:DAYLIGHT
END:VTIMEZONE
END:VCALENDAR
