BEGIN:VCALENDAR
VERSION:2.0
PRODID:-//Plone.org//NONSGML plone.app.event//EN
X-WR-TIMEZONE:America/New_York
BEGIN:VEVENT
SUMMARY:SP 2020 CLC Workshop: Academic Research
DTSTART;TZID=America/New_York:20200310T120000
DTEND;TZID=America/New_York:20200310T140000
DTSTAMP:20260420T143653Z
UID:2c43a79b748e45278c8ff7b4366dcdcc@172.16.140.7:8080
CATEGORIES:Collaborative Learning Center,CLC,CLC News,student
CREATED:20200222T172735Z
DESCRIPTION:The Collaborative Learning Center (CLC) offers a supplemental 
 series of free writing and study skills workshops for students
LAST-MODIFIED:20240301T215601Z
LOCATION:AC-2C02
URL:https://www.york.cuny.edu/collaborative-learning-center/announcements/
 sp-2020-clc-workshop-academic-research
END:VEVENT
BEGIN:VTIMEZONE
TZID:America/New_York
X-LIC-LOCATION:America/New_York
BEGIN:DAYLIGHT
DTSTART:20200308T030000
TZNAME:EDT
TZOFFSETFROM:-0500
TZOFFSETTO:-0400
END:DAYLIGHT
END:VTIMEZONE
END:VCALENDAR
