BEGIN:VCALENDAR
VERSION:2.0
PRODID:-//Plone.org//NONSGML plone.app.event//EN
X-WR-TIMEZONE:America/New_York
BEGIN:VEVENT
SUMMARY:CLC Math 120 Final Exam Review Workshop
DTSTART;TZID=America/New_York:20250514T090000
DTEND;TZID=America/New_York:20250514T110000
DTSTAMP:20260420T011127Z
UID:83b1f539035444b792a9bac72fcf2ef5@172.16.140.7:8080
CATEGORIES:CLC,Collaborative Learning Center,ds,CLC News
CONTACT:Aminata Gueye\, agueye901@york.cuny.edu
CREATED:20250217T164711Z
DESCRIPTION:Functions - Graphs\, Behaviours\, and Transformations workshop
 s available from the tutoring services at the Collaborative Learning Cente
 r (CLC)!
LAST-MODIFIED:20250218T163650Z
LOCATION:AC-1C18
URL:https://www.york.cuny.edu/collaborative-learning-center/announcements/
 math-120-final-exam-review-workshop
END:VEVENT
BEGIN:VTIMEZONE
TZID:America/New_York
X-LIC-LOCATION:America/New_York
BEGIN:DAYLIGHT
DTSTART:20250309T030000
TZNAME:EDT
TZOFFSETFROM:-0500
TZOFFSETTO:-0400
END:DAYLIGHT
END:VTIMEZONE
END:VCALENDAR
