BEGIN:VCALENDAR
VERSION:2.0
PRODID:-//Plone.org//NONSGML plone.app.event//EN
X-WR-TIMEZONE:America/New_York
BEGIN:VEVENT
SUMMARY:F2019 CLC Workshop: Annotation
DTSTART;TZID=America/New_York:20191015T120000
DTEND;TZID=America/New_York:20191015T135000
DTSTAMP:20260419T133450Z
UID:1b9b8d6c43e049b88a0ba33eb440f636@172.16.140.7:8080
CATEGORIES:CLC,CLC News,Collaborative Learning Center,student
CONTACT:Raquel Coy\, 718-262-2303
CREATED:20190923T230703Z
DESCRIPTION:The CLC is running a series of free writing and study skills w
 orkshops this semester.
LAST-MODIFIED:20240301T215600Z
LOCATION:3H14
URL:https://www.york.cuny.edu/collaborative-learning-center/announcements/
 f2019-clc-workshop-annotation-
END:VEVENT
BEGIN:VTIMEZONE
TZID:America/New_York
X-LIC-LOCATION:America/New_York
BEGIN:DAYLIGHT
DTSTART:20190310T030000
TZNAME:EDT
TZOFFSETFROM:-0500
TZOFFSETTO:-0400
END:DAYLIGHT
END:VTIMEZONE
END:VCALENDAR
