BEGIN:VCALENDAR
VERSION:2.0
PRODID:-//Plone.org//NONSGML plone.app.event//EN
X-WR-TIMEZONE:America/New_York
BEGIN:VEVENT
SUMMARY:CLC Math 111 Statistics\, Data Sampling\, and Variation in Data an
 d Sampling Workshop
DTSTART:20240223T170000Z
DTEND:20240223T190000Z
DTSTAMP:20260419T121036Z
UID:f371cb884e7c46c0a2a50ab5d5769435@172.16.140.7:8080
CATEGORIES:Collaborative Learning Center,CLC,CLC News
CONTACT:Aminata Gueye\, agueye901@york.cuny.edu\, http://tinyurl.com/3xn3m
 6my
CREATED:20240217T160049Z
DESCRIPTION:Free workshops available from the tutoring services at the Col
 laborative Learning Center (CLC)!
LAST-MODIFIED:20240301T215604Z
LOCATION:ONLINE
URL:https://www.york.cuny.edu/collaborative-learning-center/announcements/
 clc-math-111-statistics-data-sampling-and-variation-in-data-and-sampling-w
 orkshop
END:VEVENT
END:VCALENDAR
