BEGIN:VCALENDAR
VERSION:2.0
PRODID:-//Plone.org//NONSGML plone.app.event//EN
X-WR-TIMEZONE:America/New_York
BEGIN:VEVENT
SUMMARY:CLC Chemistry 111 Finals Review Workshop II
DTSTART;TZID=America/New_York:20210517T180000
DTEND;TZID=America/New_York:20210517T200000
DTSTAMP:20260421T052727Z
UID:9520327cfd184208a810af31c8588a17@172.16.140.7:8080
CATEGORIES:CLC,CLC News,Collaborative Learning Center
CREATED:20210504T211442Z
DESCRIPTION:Free workshop for Chemistry 111 available from the tutoring se
 rvices at the CLC!
LAST-MODIFIED:20240301T215558Z
LOCATION:Zoom: https://zoom.us/my/lee.simon
URL:https://www.york.cuny.edu/collaborative-learning-center/announcements/
 clc-chemistry-111-finals-review-workshop-ii
END:VEVENT
BEGIN:VTIMEZONE
TZID:America/New_York
X-LIC-LOCATION:America/New_York
BEGIN:DAYLIGHT
DTSTART:20210314T030000
TZNAME:EDT
TZOFFSETFROM:-0500
TZOFFSETTO:-0400
END:DAYLIGHT
END:VTIMEZONE
END:VCALENDAR
