BEGIN:VCALENDAR
VERSION:2.0
PRODID:-//Plone.org//NONSGML plone.app.event//EN
X-WR-TIMEZONE:America/New_York
BEGIN:VEVENT
SUMMARY:CLC Chemistry 111 Final Exam Prep/Review
DTSTART:20231212T150000Z
DTEND:20231212T170000Z
DTSTAMP:20260421T022217Z
UID:3376852f14d9403dbd29996149960410@172.16.140.7:8080
CATEGORIES:CLC,Collaborative Learning Center,ds,CLC News
CONTACT:Aminata Gueye\, agueye901@york.cuny.edu
CREATED:20231205T180508Z
DESCRIPTION:Free workshops available from the tutoring services at the Col
 laborative Learning Center (CLC)!
LAST-MODIFIED:20240301T215604Z
LOCATION:AC-1C06
URL:https://www.york.cuny.edu/collaborative-learning-center/announcements/
 clc-chemistry-111-final-exam-prep-review
END:VEVENT
END:VCALENDAR
