BEGIN:VCALENDAR
VERSION:2.0
PRODID:-//Plone.org//NONSGML plone.app.event//EN
X-WR-TIMEZONE:America/New_York
BEGIN:VEVENT
SUMMARY:Toy Drive
DTSTART;VALUE=DATE:20231101
DTEND;VALUE=DATE:20231202
DTSTAMP:20260421T065433Z
UID:aadde7098b5e417f9d992955eb41699d@172.16.140.7:8080
CATEGORIES:ds,Child and Family Center
CONTACT:Dr. Larry Eaton\, 718-262-5298\, leaton@york.cuny.edu
CREATED:20231027T170028Z
DESCRIPTION:York College Child and Family Center will be partnering with t
 he Veterans Affairs Department to host a Child Care Toy Drive from 11/1/20
 23 - 12/1/2023  
LAST-MODIFIED:20231208T174446Z
LOCATION:AC-2D07
URL:https://www.york.cuny.edu/child-family-center/toy-drive
END:VEVENT
END:VCALENDAR
