BEGIN:VCALENDAR
VERSION:2.0
PRODID:-//Plone.org//NONSGML plone.app.event//EN
X-WR-TIMEZONE:America/New_York
BEGIN:VEVENT
SUMMARY:Best Approach to Solving Worded Problems
DTSTART;TZID=America/New_York:20230929T140000
DTEND;TZID=America/New_York:20230929T150000
DTSTAMP:20260419T125631Z
UID:1672a79336ae436db0e029f6f5bd5b07@172.16.140.7:8080
CONTACT:stemcare@york.cuny.edu
CREATED:20230612T160710Z
DESCRIPTION:Approaches on how to tackle problem-solving in general chemist
 ry.
LAST-MODIFIED:20230911T174915Z
LOCATION:AC-3E07B
URL:https://www.york.cuny.edu/chemistry/stemcare/schedule/general-chemistr
 y-workshop-problem-solving
END:VEVENT
BEGIN:VTIMEZONE
TZID:America/New_York
X-LIC-LOCATION:America/New_York
BEGIN:DAYLIGHT
DTSTART:20230312T030000
TZNAME:EDT
TZOFFSETFROM:-0500
TZOFFSETTO:-0400
END:DAYLIGHT
END:VTIMEZONE
END:VCALENDAR
