BEGIN:VCALENDAR
VERSION:2.0
PRODID:-//Plone.org//NONSGML plone.app.event//EN
X-WR-TIMEZONE:America/New_York
BEGIN:VEVENT
SUMMARY:ACS 66th Annual Undergraduate Research Symposium
DTSTART;TZID=America/New_York:20180505T080000
DTEND;TZID=America/New_York:20180505T150000
DTSTAMP:20260421T055218Z
UID:c2b5c0ddf4554d5a8d57ea6eee4981eb@172.16.140.7:8080
CATEGORIES:student,employee,Chemistry
CONTACT:Yolanda Small\, 718-262-2592\, ysmall@york.cuny.edu\, http://www.n
 ewyorkacs.org/meetings/urs/urs.php
CREATED:20180214T154513Z
DESCRIPTION:The New York Chemistry Students' Association Student Affiliate
  Committee – New York Section American Chemical Society
LAST-MODIFIED:20180419T190118Z
LOCATION:York College CUNY
URL:https://www.york.cuny.edu/chemistry/acs-2018-undergraduate-research-sy
 mposium
END:VEVENT
BEGIN:VTIMEZONE
TZID:America/New_York
X-LIC-LOCATION:America/New_York
BEGIN:DAYLIGHT
DTSTART:20180311T030000
TZNAME:EDT
TZOFFSETFROM:-0500
TZOFFSETTO:-0400
END:DAYLIGHT
END:VTIMEZONE
END:VCALENDAR
