BEGIN:VCALENDAR
VERSION:2.0
PRODID:-//Plone.org//NONSGML plone.app.event//EN
X-WR-TIMEZONE:America/New_York
BEGIN:VEVENT
SUMMARY:Career Services - Wednesday Weekly Workshop - Resume Clinic
DTSTART;TZID=America/New_York:20170927T150000
DTSTAMP:20260420T171324Z
UID:c2ad938f21674fa78133bb18f2d8fcfa@172.16.140.7:8080
RRULE:FREQ=WEEKLY;COUNT=11;BYDAY=WE
EXDATE;TZID=America/New_York:20171003T000000,20171010T000000,20171017T0000
 00,20171024T000000,20171031T000000,20171107T000000,20171114T000000,2017112
 1T000000,20171128T000000,20171205T000000
CATEGORIES:Student Affairs,Career Services
CONTACT:718-262-2282
CREATED:20170920T135745Z
DESCRIPTION:Every Wednesday When Classes are in Session
LAST-MODIFIED:20230614T080226Z
LOCATION:Career Services - 3M01
URL:https://www.york.cuny.edu/career-services/events/weekly-workshop--resu
 me-clinic
END:VEVENT
BEGIN:VTIMEZONE
TZID:America/New_York
X-LIC-LOCATION:America/New_York
BEGIN:DAYLIGHT
DTSTART:20170312T030000
TZNAME:EDT
TZOFFSETFROM:-0500
TZOFFSETTO:-0400
END:DAYLIGHT
END:VTIMEZONE
END:VCALENDAR
