BEGIN:VCALENDAR
VERSION:2.0
PRODID:-//Plone.org//NONSGML plone.app.event//EN
X-WR-TIMEZONE:America/New_York
BEGIN:VEVENT
SUMMARY:Live Webinar Series - Interviewing Strategies
DTSTART;TZID=America/New_York:20141105T073000
DTEND;TZID=America/New_York:20141105T083000
DTSTAMP:20260420T174606Z
UID:5f12cfb9b72448819bc4bdc63043fd0d@172.16.140.7:8080
CATEGORIES:Student Affairs,Career Services
CONTACT:Career Services\, 718-262-2282\, career@york.cuny.edu\, https://ww
 w2.gotomeeting.com/register/799246650
CREATED:20141103T213341Z
DESCRIPTION:Join these free live webinars and you can learn over lunch!  
LAST-MODIFIED:20230614T080225Z
LOCATION:Online
URL:https://www.york.cuny.edu/career-services/events/webinar-series-learn-
 over-lunch
END:VEVENT
BEGIN:VTIMEZONE
TZID:America/New_York
X-LIC-LOCATION:America/New_York
BEGIN:STANDARD
DTSTART:20141102T010000
TZNAME:EST
TZOFFSETFROM:-0400
TZOFFSETTO:-0500
END:STANDARD
END:VTIMEZONE
END:VCALENDAR
