BEGIN:VCALENDAR
VERSION:2.0
PRODID:-//Plone.org//NONSGML plone.app.event//EN
X-WR-TIMEZONE:America/New_York
BEGIN:VEVENT
SUMMARY:Revature Information Session
DTSTART;TZID=America/New_York:20180306T120000
DTEND;TZID=America/New_York:20180306T133000
DTSTAMP:20260420T093906Z
UID:8a851fc6749d451db696b695e1c1a769@172.16.140.7:8080
CATEGORIES:student,Career Services
CONTACT:718-262-2282
CREATED:20180220T183320Z
DESCRIPTION:Seniors and alumni\; how to launch technology career.
LAST-MODIFIED:20230614T080223Z
LOCATION:AC-3M01
URL:https://www.york.cuny.edu/career-services/events/revature-information-
 session
END:VEVENT
BEGIN:VTIMEZONE
TZID:America/New_York
X-LIC-LOCATION:America/New_York
BEGIN:STANDARD
DTSTART:20171105T010000
TZNAME:EST
TZOFFSETFROM:-0400
TZOFFSETTO:-0500
END:STANDARD
END:VTIMEZONE
END:VCALENDAR
