BEGIN:VCALENDAR
VERSION:2.0
PRODID:-//Plone.org//NONSGML plone.app.event//EN
X-WR-TIMEZONE:America/New_York
BEGIN:VEVENT
SUMMARY:Career Services Internship Fair 2018
DTSTART;TZID=America/New_York:20181108T110000
DTEND;TZID=America/New_York:20181108T150000
DTSTAMP:20260420T163231Z
UID:8b57291eb33246559dc729bd42567870@172.16.140.7:8080
CATEGORIES:student,Career Services
CONTACT:718-262-2282
CREATED:20180917T165516Z
DESCRIPTION:During the fair you can explore the internships and network wi
 th the different employers.
LAST-MODIFIED:20230614T080220Z
LOCATION:Atrium
URL:https://www.york.cuny.edu/career-services/events/internship-informatio
 nal-fair-2018
END:VEVENT
BEGIN:VTIMEZONE
TZID:America/New_York
X-LIC-LOCATION:America/New_York
BEGIN:STANDARD
DTSTART:20181104T010000
TZNAME:EST
TZOFFSETFROM:-0400
TZOFFSETTO:-0500
END:STANDARD
END:VTIMEZONE
END:VCALENDAR
