BEGIN:VCALENDAR
VERSION:2.0
PRODID:-//Plone.org//NONSGML plone.app.event//EN
X-WR-TIMEZONE:America/New_York
BEGIN:VEVENT
SUMMARY:Career Services - Open House
DTSTART;TZID=America/New_York:20180208T120000
DTEND;TZID=America/New_York:20180208T140000
DTSTAMP:20260420T145733Z
UID:cb5cd01f71924e23930946c5669831cd@172.16.140.7:8080
CATEGORIES:student,Career Services
CONTACT:718-262-2282
CREATED:20180205T153755Z
DESCRIPTION:Career Services overall information. Spring 2018 events and mu
 ch more
LAST-MODIFIED:20230614T080603Z
LOCATION:AC-3M01
URL:https://www.york.cuny.edu/career-services/events/career-services---ope
 n-house
END:VEVENT
BEGIN:VTIMEZONE
TZID:America/New_York
X-LIC-LOCATION:America/New_York
BEGIN:STANDARD
DTSTART:20171105T010000
TZNAME:EST
TZOFFSETFROM:-0400
TZOFFSETTO:-0500
END:STANDARD
END:VTIMEZONE
END:VCALENDAR
