BEGIN:VCALENDAR
VERSION:2.0
PRODID:-//Plone.org//NONSGML plone.app.event//EN
X-WR-TIMEZONE:America/New_York
BEGIN:VEVENT
SUMMARY:Aviation Day
DTSTART;TZID=America/New_York:20250410T120000
DTEND;TZID=America/New_York:20250410T140000
DTSTAMP:20260421T014340Z
UID:9510797c6cb249ecbb8b73c9733a3512@172.16.140.7:8080
CATEGORIES:Aviation Club,ds,Aviation Institute,Business and Economics
CONTACT:https://forms.office.com/Pages/ResponsePage.aspx?id=s_BgbwZfCU6XFZ
 iduozH2IwttoFpo2pEjACIZNfRTnJUMkhURDZJQzZHRDRONE82TVJIVzRWRFlTMC4u&origin=
 QRCode
CREATED:20250318T201356Z
DESCRIPTION:All college students and alumni are invited to Aviation Day
LAST-MODIFIED:20250318T201405Z
LOCATION:AC-2D01
URL:https://www.york.cuny.edu/business-economics/aviation-day
END:VEVENT
BEGIN:VTIMEZONE
TZID:America/New_York
X-LIC-LOCATION:America/New_York
BEGIN:DAYLIGHT
DTSTART:20250309T030000
TZNAME:EDT
TZOFFSETFROM:-0500
TZOFFSETTO:-0400
END:DAYLIGHT
END:VTIMEZONE
END:VCALENDAR
