BEGIN:VCALENDAR
VERSION:2.0
PRODID:-//Plone.org//NONSGML plone.app.event//EN
X-WR-TIMEZONE:America/New_York
BEGIN:VEVENT
SUMMARY:Info Sessions: Accounting and Finance - Jun 4 Evening
DTSTART;TZID=America/New_York:20260604T180000
DTEND;TZID=America/New_York:20260604T190000
DTSTAMP:20260421T142523Z
UID:19bd0fb272b44bca8bb6b2fc92a0445b@172.16.140.7:8080
CATEGORIES:Accounting and Finance
CONTACT:Criss Hsu\, chsu@york.cuny.edu
CREATED:20260226T200255Z
DESCRIPTION:Are you interested in learning more about what York college's 
 Accounting and Finance department has to offer?
LAST-MODIFIED:20260310T170621Z
LOCATION:Online
URL:http://172.16.140.7:8080/yc1/business-and-information-systems/list-of-
 upcoming-events/accounting-and-finance-information-sessions-jun-4c
END:VEVENT
BEGIN:VTIMEZONE
TZID:America/New_York
X-LIC-LOCATION:America/New_York
BEGIN:DAYLIGHT
DTSTART:20260308T030000
TZNAME:EDT
TZOFFSETFROM:-0500
TZOFFSETTO:-0400
END:DAYLIGHT
END:VTIMEZONE
END:VCALENDAR
