BEGIN:VCALENDAR
VERSION:2.0
PRODID:-//Plone.org//NONSGML plone.app.event//EN
X-WR-TIMEZONE:America/New_York
BEGIN:VEVENT
SUMMARY:Pre-Med Meeting
DTSTART;TZID=America/New_York:20100209T120000
DTEND;TZID=America/New_York:20100209T130000
DTSTAMP:20260420T213146Z
UID:febe46ef5785fa89f052127e69077967@172.16.140.7:8080
CATEGORIES:Freshman,Health Professions,Academics,Academic Advisement,Chemi
 stry,Biology
CONTACT:Dr. Andrew Criss\, 718-262-5329\, acriss@york.cuny.edu
CREATED:20100126T164824Z
DESCRIPTION:Informational meeting for all students interested in pre-medic
 al/dental or healthcare careers.
LAST-MODIFIED:20170331T162720Z
LOCATION:AC-4M07
URL:https://www.york.cuny.edu/biology/pre-med-meeting
END:VEVENT
BEGIN:VTIMEZONE
TZID:America/New_York
X-LIC-LOCATION:America/New_York
BEGIN:STANDARD
DTSTART:20091101T010000
TZNAME:EST
TZOFFSETFROM:-0400
TZOFFSETTO:-0500
END:STANDARD
END:VTIMEZONE
END:VCALENDAR
