BEGIN:VCALENDAR
VERSION:2.0
PRODID:-//Plone.org//NONSGML plone.app.event//EN
X-WR-TIMEZONE:America/New_York
BEGIN:VEVENT
SUMMARY:Pre-Med Meeting
DTSTART;TZID=America/New_York:20110505T120000
DTEND;TZID=America/New_York:20110505T140000
DTSTAMP:20260420T205915Z
UID:97849a0075546b1d5ace9920d743eb94@172.16.140.7:8080
CATEGORIES:employee featured,Freshman,Health Professions,Chemistry,Biology
CONTACT:Andrew Criss\, 718-262-5329\, acriss@york.cuny.edu
CREATED:20110426T172316Z
DESCRIPTION:Planning to apply to Med School?  DO NOT miss this meeting!
LAST-MODIFIED:20170331T162718Z
LOCATION:4M05
URL:https://www.york.cuny.edu/biology/pre-med-meeting-2
END:VEVENT
BEGIN:VTIMEZONE
TZID:America/New_York
X-LIC-LOCATION:America/New_York
BEGIN:DAYLIGHT
DTSTART:20110313T030000
TZNAME:EDT
TZOFFSETFROM:-0500
TZOFFSETTO:-0400
END:DAYLIGHT
END:VTIMEZONE
END:VCALENDAR
