BEGIN:VCALENDAR
VERSION:2.0
PRODID:-//Plone.org//NONSGML plone.app.event//EN
X-WR-TIMEZONE:America/New_York
BEGIN:VEVENT
SUMMARY:Pre-Med/Dental General Info Meeting
DTSTART;TZID=America/New_York:20120911T120000
DTEND;TZID=America/New_York:20120911T133000
DTSTAMP:20260421T144921Z
UID:ee5b4c0eac6646efbae4a847fdf45069@172.16.140.7:8080
CATEGORIES:Health Professions,Academic Advisement,Academic Department,Care
 er Services,Biology,ds,School of Arts and Sciences,Chemistry,Freshman
CONTACT:Andrew Criss\, acriss@york.cuny.edu
CREATED:20120828T172243Z
DESCRIPTION:Dr. Criss\, York's pre-medical and health career advisor\, wil
 l be hosting a general information meeting for students interested in a ca
 reer in the health professions. ALSO: PRE-MED CLUB FORMING.  DETAILS WILL 
 BE DISCUSSED AT MEETING.
LAST-MODIFIED:20170331T162716Z
LOCATION:AC-4E07
URL:https://www.york.cuny.edu/biology/pre-med-dental-general-info-meeting
END:VEVENT
BEGIN:VTIMEZONE
TZID:America/New_York
X-LIC-LOCATION:America/New_York
BEGIN:DAYLIGHT
DTSTART:20120311T030000
TZNAME:EDT
TZOFFSETFROM:-0500
TZOFFSETTO:-0400
END:DAYLIGHT
END:VTIMEZONE
END:VCALENDAR
