BEGIN:VCALENDAR
VERSION:2.0
PRODID:-//Plone.org//NONSGML plone.app.event//EN
X-WR-TIMEZONE:America/New_York
BEGIN:VEVENT
SUMMARY:Natural Sciences Research Seminar Series
DTSTART;TZID=America/New_York:20090924T120000
DTEND;TZID=America/New_York:20090924T130000
DTSTAMP:20260420T195125Z
UID:8c43275b82822b981a475b2de078ab87@172.16.140.7:8080
CATEGORIES:employee featured,Academics,Earth and Physical Sciences,Chemist
 ry,Biology
CONTACT:Emmanuel Chang\, (718)262-3778\, echang@york.cuny.edu
CREATED:20090923T173819Z
DESCRIPTION:Dr. Shengkun Zhang - Department of Physics - NYC College of Te
 chnology (CUNY) (Zn)CdSe Quantum Wells and Quantum Dots for Intersubband I
 nfrared Device Applications
LAST-MODIFIED:20170331T162716Z
LOCATION:AC-4M05
URL:https://www.york.cuny.edu/biology/natural-sciences-research-seminar-se
 ries
END:VEVENT
BEGIN:VTIMEZONE
TZID:America/New_York
X-LIC-LOCATION:America/New_York
BEGIN:DAYLIGHT
DTSTART:20090308T030000
TZNAME:EDT
TZOFFSETFROM:-0500
TZOFFSETTO:-0400
END:DAYLIGHT
END:VTIMEZONE
END:VCALENDAR
