BEGIN:VCALENDAR
VERSION:2.0
PRODID:-//Plone.org//NONSGML plone.app.event//EN
X-WR-TIMEZONE:America/New_York
BEGIN:VEVENT
SUMMARY:Alumni Vendor Market
DTSTART;TZID=America/New_York:20180425T080000
DTEND;TZID=America/New_York:20180426T190000
DTSTAMP:20260420T161232Z
UID:5887d98b94cd4a9e9fdcea6835d884b8@172.16.140.7:8080
CATEGORIES:student,Alumni Association,employee
CONTACT:Beatrice Mills-Henry\, 718-262-2420\, alumni@york.cuny.edu
CREATED:20180209T152538Z
DESCRIPTION:Alumni Association Spring Vendor Market at York College
LAST-MODIFIED:20250703T201111Z
LOCATION:Atrium
URL:https://www.york.cuny.edu/association/alumni-vendor-market
END:VEVENT
BEGIN:VTIMEZONE
TZID:America/New_York
X-LIC-LOCATION:America/New_York
BEGIN:DAYLIGHT
DTSTART:20180311T030000
TZNAME:EDT
TZOFFSETFROM:-0500
TZOFFSETTO:-0400
END:DAYLIGHT
END:VTIMEZONE
END:VCALENDAR
