BEGIN:VCALENDAR
VERSION:2.0
PRODID:-//Plone.org//NONSGML plone.app.event//EN
X-WR-TIMEZONE:America/New_York
BEGIN:VEVENT
SUMMARY:DegreeWorks 200-Faculty/Staff (Prof 101)
DTSTART;TZID=US/Eastern:20181011T120000
DTEND;TZID=US/Eastern:20181011T123000
DTSTAMP:20260425T152041Z
UID:464eee648ac04d3b875f4691761df641@172.16.140.7:8080
CATEGORIES:employee,DegreeWorks
CREATED:20181207T155301Z
DESCRIPTION:This workshop is designed for faculty and staff who use the de
 gree audit system in communication with students.
LAST-MODIFIED:20191120T153806Z
LOCATION:AC-2A05
URL:https://www.york.cuny.edu/advisement/events/prof-101-1
END:VEVENT
BEGIN:VTIMEZONE
TZID:US/Eastern
X-LIC-LOCATION:US/Eastern
BEGIN:DAYLIGHT
DTSTART:20180311T030000
TZNAME:EDT
TZOFFSETFROM:-0500
TZOFFSETTO:-0400
END:DAYLIGHT
END:VTIMEZONE
END:VCALENDAR
