BEGIN:VCALENDAR
VERSION:2.0
PRODID:-//Plone.org//NONSGML plone.app.event//EN
X-WR-TIMEZONE:America/New_York
BEGIN:VEVENT
SUMMARY:NESS 100 Freshman Seminar Orientation #1
DTSTART;TZID=US/Eastern:20200820T100000
DTEND;TZID=US/Eastern:20200820T120000
DTSTAMP:20260420T233851Z
UID:5f2a44eb0ddc40a5a25976ef20c129d6@172.16.140.7:8080
CONTACT:Academic Advisement Center\, 718-262-2280\, YCNESS@york.cuny.edu.
CREATED:20200811T204110Z
DESCRIPTION:Distance Learning: Yes You Can!
LAST-MODIFIED:20200812T124757Z
LOCATION:Online
URL:https://www.york.cuny.edu/advisement/events/ness-100-freshman-seminar-
 orientation
END:VEVENT
BEGIN:VTIMEZONE
TZID:US/Eastern
X-LIC-LOCATION:US/Eastern
BEGIN:DAYLIGHT
DTSTART:20200308T030000
TZNAME:EDT
TZOFFSETFROM:-0500
TZOFFSETTO:-0400
END:DAYLIGHT
END:VTIMEZONE
END:VCALENDAR
