BEGIN:VCALENDAR
VERSION:2.0
PRODID:-//Plone.org//NONSGML plone.app.event//EN
X-WR-TIMEZONE:America/New_York
BEGIN:VEVENT
SUMMARY:DGW100-Students (Fall 2019 #2)
DTSTART;TZID=US/Eastern:20190917T120000
DTEND;TZID=US/Eastern:20190917T133000
DTSTAMP:20260420T031357Z
UID:383e5e1895c34582ab5d20739852ca77@172.16.140.7:8080
CATEGORIES:DegreeWorks,student
CONTACT:Academic Advisement Center\, 7182622280\, advisement@york.cuny.edu
CREATED:20190603T200216Z
DESCRIPTION:Want to graduate on time? Want to track your academic progress
 ? Want to plan your desired GPA? Classes? Learn How to Use DegreeWorks!
LAST-MODIFIED:20190806T160103Z
LOCATION:CL-201B / CL-205
URL:https://www.york.cuny.edu/advisement/events/dgw100-students-fall-2019-
 2
END:VEVENT
BEGIN:VTIMEZONE
TZID:US/Eastern
X-LIC-LOCATION:US/Eastern
BEGIN:DAYLIGHT
DTSTART:20190310T030000
TZNAME:EDT
TZOFFSETFROM:-0500
TZOFFSETTO:-0400
END:DAYLIGHT
END:VTIMEZONE
END:VCALENDAR
