BEGIN:VCALENDAR
VERSION:2.0
PRODID:-//Plone.org//NONSGML plone.app.event//EN
X-WR-TIMEZONE:America/New_York
BEGIN:VEVENT
SUMMARY:Undocumented and Immigrant Students Workshop
DTSTART:20240404T160000Z
DTEND:20240404T180000Z
DTSTAMP:20260426T003250Z
UID:a597662b4374405ba5ccdbc6385fde8c@172.16.140.7:8080
CATEGORIES:Pathways to Success,Workshop,Undocumented Students,Immigrant St
 udents,ds,Admissions
CONTACT:https://cunyyork.askadmissions.net/Portal/EI/ViewDetails?gid=62357
 79d85fc9aae654e2fa5cf1603a0cf7c9b
CREATED:20240228T174749Z
DESCRIPTION:Pathways to Success: Supporting Immigrant and Undocumented Stu
 dents at CUNY - YORK College
LAST-MODIFIED:20240229T193751Z
LOCATION:AC-3D01
URL:https://www.york.cuny.edu/admissions/undocumented-immigrant-students-w
 orkshop
END:VEVENT
END:VCALENDAR
