BEGIN:VCALENDAR
VERSION:2.0
PRODID:-//Plone.org//NONSGML plone.app.event//EN
X-WR-TIMEZONE:America/New_York
BEGIN:VEVENT
SUMMARY:Spring Open House
DTSTART;TZID=America/New_York:20260326T160000
DTEND;TZID=America/New_York:20260326T173000
DTSTAMP:20260422T014528Z
UID:33068c52e23f4552937aabce582345a6@172.16.140.7:8080
CATEGORIES:ds,Admitted Student Events
CONTACT:Welcome Center\, 718-262-2708\, welcomecenter@york.cuny.edu\, http
 s://welcome.york.cuny.edu/register/?id=c1d640c7-0988-4e18-948f-6e836dcf57c
 4
CREATED:20260225T174542Z
DESCRIPTION:Explore\, Connect\, Succeed 
LAST-MODIFIED:20260303T155336Z
LOCATION:York College Room AC-3D01
URL:https://www.york.cuny.edu/admissions/spring-open-house
END:VEVENT
BEGIN:VTIMEZONE
TZID:America/New_York
X-LIC-LOCATION:America/New_York
BEGIN:DAYLIGHT
DTSTART:20260308T030000
TZNAME:EDT
TZOFFSETFROM:-0500
TZOFFSETTO:-0400
END:DAYLIGHT
END:VTIMEZONE
END:VCALENDAR
