BEGIN:VCALENDAR
VERSION:2.0
PRODID:-//Plone.org//NONSGML plone.app.event//EN
X-WR-TIMEZONE:America/New_York
BEGIN:VEVENT
SUMMARY:Spring Information Session
DTSTART:20240321T200000Z
DTEND:20240321T213000Z
DTSTAMP:20260422T064504Z
UID:42378bf04df34345b8accc91880bffde@172.16.140.7:8080
CATEGORIES:ds,Admissions
CREATED:20240319T190346Z
DESCRIPTION:Where your Future takes Flight!
LAST-MODIFIED:20240319T205633Z
LOCATION:AC-3D01
URL:https://www.york.cuny.edu/admissions/spring-info-session
END:VEVENT
END:VCALENDAR
