BEGIN:VCALENDAR
VERSION:2.0
PRODID:-//Plone.org//NONSGML plone.app.event//EN
X-WR-TIMEZONE:America/New_York
BEGIN:VEVENT
SUMMARY:Accepted Student Day
DTSTART;TZID=America/New_York:20260424T160000
DTEND;TZID=America/New_York:20260424T190000
DTSTAMP:20260422T093918Z
UID:cc1bc10975fe4bf2add7fff8c714aab9@172.16.140.7:8080
ATTENDEE;CN="Admitted Students";ROLE=REQ-PARTICIPANT:Admitted Students
CATEGORIES:Admitted Student Events,Lecture/Presentation,ds
CONTACT:Admissions\, admissions@york.cuny.edu
CREATED:20260331T162237Z
DESCRIPTION:Celebrate your acceptance and get to know York College! Connec
 t with faculty\, explore your major\, meet future classmates\, and get per
 sonalized support with next steps.
LAST-MODIFIED:20260331T181611Z
LOCATION:AC-3D01
URL:https://www.york.cuny.edu/admissions/new/accepted-student-day
END:VEVENT
BEGIN:VTIMEZONE
TZID:America/New_York
X-LIC-LOCATION:America/New_York
BEGIN:DAYLIGHT
DTSTART:20260308T030000
TZNAME:EDT
TZOFFSETFROM:-0500
TZOFFSETTO:-0400
END:DAYLIGHT
END:VTIMEZONE
END:VCALENDAR
