BEGIN:VCALENDAR
VERSION:2.0
PRODID:-//Plone.org//NONSGML plone.app.event//EN
X-WR-TIMEZONE:America/New_York
BEGIN:VEVENT
SUMMARY:Graduate Open House
DTSTART;TZID=America/New_York:20201122T110000
DTEND;TZID=America/New_York:20201122T140000
DTSTAMP:20260424T002230Z
UID:dcd136a8227a4a889e2afa0e0707f9f1@172.16.140.7:8080
CATEGORIES:Prospective Student,ds,homepage featured
CONTACT:Admissions\, 718-262-2165\, admissions@york.cuny.edu
CREATED:20160926T160618Z
DESCRIPTION:Tune in on Sunday\, November 22nd for our virtual Graduate Ope
 n House!
LAST-MODIFIED:20230421T223012Z
LOCATION:Virtual Event
URL:https://www.york.cuny.edu/admissions/graduate-openhouse
END:VEVENT
BEGIN:VTIMEZONE
TZID:America/New_York
X-LIC-LOCATION:America/New_York
BEGIN:STANDARD
DTSTART:20201101T010000
TZNAME:EST
TZOFFSETFROM:-0400
TZOFFSETTO:-0500
END:STANDARD
END:VTIMEZONE
END:VCALENDAR
