BEGIN:VCALENDAR
VERSION:2.0
PRODID:-//Plone.org//NONSGML plone.app.event//EN
X-WR-TIMEZONE:America/New_York
BEGIN:VEVENT
SUMMARY:Recognizing Faculty Scholars at York
DTSTART;TZID=America/New_York:20260514T170000
DTEND;TZID=America/New_York:20260514T190000
DTSTAMP:20260422T124518Z
UID:317261c68ade4f0191c854403ca3ad04@172.16.140.7:8080
CATEGORIES:Academic Affairs,ds,Lecture/Presentation
CONTACT:Linda M Grasso\, 718-262-2490\, lgrasso@york.cuny.edu
CREATED:20260324T010249Z
DESCRIPTION:Everyone is welcome to attend Recognizing Faculty Scholars at 
 York\, which provides an opportunity to meet colleagues and share news abo
 ut research and publications. 
LAST-MODIFIED:20260416T184125Z
LOCATION:AC-2D01
URL:https://www.york.cuny.edu/academic-affairs/recognizing-faculty-scholar
 s
END:VEVENT
BEGIN:VTIMEZONE
TZID:America/New_York
X-LIC-LOCATION:America/New_York
BEGIN:DAYLIGHT
DTSTART:20260308T030000
TZNAME:EDT
TZOFFSETFROM:-0500
TZOFFSETTO:-0400
END:DAYLIGHT
END:VTIMEZONE
END:VCALENDAR
