BEGIN:VCALENDAR
VERSION:2.0
PRODID:-//Plone.org//NONSGML plone.app.event//EN
X-WR-TIMEZONE:America/New_York
BEGIN:VEVENT
SUMMARY:Kwanzaa Celebration - Day 2
DTSTART;TZID=America/New_York:20211227T150000
DTEND;TZID=America/New_York:20211227T160000
DTSTAMP:20260420T091514Z
UID:fe05ef020e18406ab8a22ce1d7c9566a@172.16.140.7:8080
CONTACT:Dr. Lindamichelle Baron\, lbaron@york.cuny.edu\, https://youtu.be/
 4FLsFIqggyA
CREATED:20211221T165827Z
DESCRIPTION:In case you missed the first day\, please join Professor Andre
 w Jackson in this celebration of Kwanzaa.  This event is sponsored by the 
 Africana Studies Center: A Resource for Community Research.
LAST-MODIFIED:20230405T124143Z
LOCATION:YouTube
URL:https://www.york.cuny.edu/aarc/events/kwanzaa-celebration---day-2
END:VEVENT
BEGIN:VTIMEZONE
TZID:America/New_York
X-LIC-LOCATION:America/New_York
BEGIN:STANDARD
DTSTART:20211107T010000
TZNAME:EST
TZOFFSETFROM:-0400
TZOFFSETTO:-0500
END:STANDARD
END:VTIMEZONE
END:VCALENDAR
