BEGIN:VCALENDAR
VERSION:2.0
PRODID:-//Plone.org//NONSGML plone.app.event//EN
X-WR-TIMEZONE:America/New_York
BEGIN:VEVENT
SUMMARY:SOAR Week #4 Core Wednesday - Rec On-Demand Workout Program
DTSTART;TZID=America/New_York:20210224T080000
DTSTAMP:20260421T105903Z
UID:133a9d8053944107835a28cf2fef3293@172.16.140.7:8080
CATEGORIES:Athletics Digital Signage,employee,Athletics,ds,employee featur
 ed,student,Student Activities
CONTACT:York Athletics & Recreation\, yorkathletics@york.cuny.edu\, https:
 //youtu.be/ghKKUKusROI
CREATED:20210128T151633Z
DESCRIPTION:Recreation presents the SOAR workout program with Core Wednesd
 ay of Week #4. The SOAR workout program features 5-weeks of dynamic struct
 ured workouts available on-demand.
LAST-MODIFIED:20210222T120759Z
LOCATION:https://www.yorkathletics.com/soar
URL:https://www.york.cuny.edu/events/2021/soar-week-4-core-wednesday---rec
 -on-demand-workout-program
END:VEVENT
BEGIN:VTIMEZONE
TZID:America/New_York
X-LIC-LOCATION:America/New_York
BEGIN:STANDARD
DTSTART:20201101T010000
TZNAME:EST
TZOFFSETFROM:-0400
TZOFFSETTO:-0500
END:STANDARD
END:VTIMEZONE
END:VCALENDAR
